BEGIN:VCALENDAR
VERSION:2.0
PRODID:-//Schützenverein Heinsberg e.V. - ECPv6.15.20//NONSGML v1.0//EN
CALSCALE:GREGORIAN
METHOD:PUBLISH
X-ORIGINAL-URL:https://www.schuetzenverein-heinsberg.de
X-WR-CALDESC:Veranstaltungen für Schützenverein Heinsberg e.V.
REFRESH-INTERVAL;VALUE=DURATION:PT1H
X-Robots-Tag:noindex
X-PUBLISHED-TTL:PT1H
BEGIN:VTIMEZONE
TZID:Europe/Berlin
BEGIN:DAYLIGHT
TZOFFSETFROM:+0100
TZOFFSETTO:+0200
TZNAME:CEST
DTSTART:20220327T010000
END:DAYLIGHT
BEGIN:STANDARD
TZOFFSETFROM:+0200
TZOFFSETTO:+0100
TZNAME:CET
DTSTART:20221030T010000
END:STANDARD
BEGIN:DAYLIGHT
TZOFFSETFROM:+0100
TZOFFSETTO:+0200
TZNAME:CEST
DTSTART:20230326T010000
END:DAYLIGHT
BEGIN:STANDARD
TZOFFSETFROM:+0200
TZOFFSETTO:+0100
TZNAME:CET
DTSTART:20231029T010000
END:STANDARD
BEGIN:DAYLIGHT
TZOFFSETFROM:+0100
TZOFFSETTO:+0200
TZNAME:CEST
DTSTART:20240331T010000
END:DAYLIGHT
BEGIN:STANDARD
TZOFFSETFROM:+0200
TZOFFSETTO:+0100
TZNAME:CET
DTSTART:20241027T010000
END:STANDARD
BEGIN:DAYLIGHT
TZOFFSETFROM:+0100
TZOFFSETTO:+0200
TZNAME:CEST
DTSTART:20250330T010000
END:DAYLIGHT
BEGIN:STANDARD
TZOFFSETFROM:+0200
TZOFFSETTO:+0100
TZNAME:CET
DTSTART:20251026T010000
END:STANDARD
END:VTIMEZONE
BEGIN:VEVENT
DTSTART;VALUE=DATE:20231231
DTEND;VALUE=DATE:20240102
DTSTAMP:20260426T020714
CREATED:20231027T134519Z
LAST-MODIFIED:20231231T085955Z
UID:876-1703980800-1704153599@www.schuetzenverein-heinsberg.de
SUMMARY:Silvesterparty 2023 in der Schützenhalle
DESCRIPTION:https://www.schuetzenverein-heinsberg.de/wp-content/uploads/2023/03/Quadratisch-online-Werbung-1.mp4\n\nHerzliche Einladung\,\nmit uns gemeinsam ins neue Jahr 2024 zu feiern.\nFür Feuerwerk\, Musik\, Buffet und ausreichend kalte Getränke ist gesorgt! \nIm Speisesaal gibt es Unterhaltung für die Kleinen. \n  \nEinlass ist  ab 18:30 Uhr\n\nWo?\nIn der Schützenhalle Heinsberg \nPreise:\nKinder bis 10 Jahre frei \n10 – 15 Jahre: 20€ \nFrauen: 35€ \nMänner: 45€ \nWie kann man sich einen Platz sichern?\nEs kann ganz einfach per Überweisung bezahlt werden. \nIBAN: DE18 4606 2817 0151 6260 00 \nVerwendungszweck: Name und Personenanzahl \n\nIhr könnt auch mit Paypal bezahlen. \nDazu die entsprechende Ticketanzahl weiter unten auswählen und auf „Tickets kaufen“ klicken. \n\nWir gehen in die erweiterte Verlängerung!\nVerbindliche Anmeldungen & Ticketverkauf\,\nbis zum 21.12.23\n\n  \nWir freuen uns auf euch.
URL:https://www.schuetzenverein-heinsberg.de/event/silvesterparty-schuetzenhalle/
LOCATION:Schützenhalle Heinsberg\, Oberndorfer Str. 8\, Kirchhundem\, NRW\, 57399\, Deutschland
ORGANIZER;CN="Sch%C3%BCtzenverein Heinsberg e.V.":MAILTO:info@schuetzenverein.de
END:VEVENT
END:VCALENDAR